BEGIN:VCALENDAR
VERSION:2.0
PRODID:-//Chapel Hill Pickleball - ECPv6.15.20//NONSGML v1.0//EN
CALSCALE:GREGORIAN
METHOD:PUBLISH
X-WR-CALNAME:Chapel Hill Pickleball
X-ORIGINAL-URL:https://www.chapelhillpickleball.org
X-WR-CALDESC:Events for Chapel Hill Pickleball
REFRESH-INTERVAL;VALUE=DURATION:PT1H
X-Robots-Tag:noindex
X-PUBLISHED-TTL:PT1H
BEGIN:VTIMEZONE
TZID:America/New_York
BEGIN:DAYLIGHT
TZOFFSETFROM:-0500
TZOFFSETTO:-0400
TZNAME:EDT
DTSTART:20220313T070000
END:DAYLIGHT
BEGIN:STANDARD
TZOFFSETFROM:-0400
TZOFFSETTO:-0500
TZNAME:EST
DTSTART:20221106T060000
END:STANDARD
BEGIN:DAYLIGHT
TZOFFSETFROM:-0500
TZOFFSETTO:-0400
TZNAME:EDT
DTSTART:20230312T070000
END:DAYLIGHT
BEGIN:STANDARD
TZOFFSETFROM:-0400
TZOFFSETTO:-0500
TZNAME:EST
DTSTART:20231105T060000
END:STANDARD
BEGIN:DAYLIGHT
TZOFFSETFROM:-0500
TZOFFSETTO:-0400
TZNAME:EDT
DTSTART:20240310T070000
END:DAYLIGHT
BEGIN:STANDARD
TZOFFSETFROM:-0400
TZOFFSETTO:-0500
TZNAME:EST
DTSTART:20241103T060000
END:STANDARD
END:VTIMEZONE
BEGIN:VEVENT
DTSTART;TZID=America/New_York:20230622T180000
DTEND;TZID=America/New_York:20230622T210000
DTSTAMP:20260423T151656
CREATED:20230621T174314Z
LAST-MODIFIED:20230621T174314Z
UID:6410-1687456800-1687467600@www.chapelhillpickleball.org
SUMMARY:Novice Night - Thursdays 6-9PM 5 Courts
DESCRIPTION:Thursday night is Novice Night!   \n5 Courts Reserved and Dedicated with a minimum of 1 for general open play. \nTime:  6-9PM \nNOTE:  We often do not know if there will be 1 court for open play or more until we arrive\, so please be patient until we assess the situation with the shared use courts.
URL:https://www.chapelhillpickleball.org/event/novice-night-thursdays-6-9pm-5-courts/
LOCATION:Ephesus Park\, 1495 Ephesus Church Rd\, Chapel Hill\, NC\, 27514\, United States
CATEGORIES:Novice Night
ORGANIZER;CN="Jen Johnson":MAILTO:wiggly1@me.com
END:VEVENT
END:VCALENDAR